BEGIN:VCALENDAR
VERSION:2.0
PRODID:-//ExpoHealthNet - ECPv6.15.17//NONSGML v1.0//EN
CALSCALE:GREGORIAN
METHOD:PUBLISH
X-WR-CALNAME:ExpoHealthNet
X-ORIGINAL-URL:https://expohealthnet.eu
X-WR-CALDESC:Events for ExpoHealthNet
REFRESH-INTERVAL;VALUE=DURATION:PT1H
X-Robots-Tag:noindex
X-PUBLISHED-TTL:PT1H
BEGIN:VTIMEZONE
TZID:Europe/London
BEGIN:DAYLIGHT
TZOFFSETFROM:+0000
TZOFFSETTO:+0100
TZNAME:BST
DTSTART:20240331T010000
END:DAYLIGHT
BEGIN:STANDARD
TZOFFSETFROM:+0100
TZOFFSETTO:+0000
TZNAME:GMT
DTSTART:20241027T010000
END:STANDARD
BEGIN:DAYLIGHT
TZOFFSETFROM:+0000
TZOFFSETTO:+0100
TZNAME:BST
DTSTART:20250330T010000
END:DAYLIGHT
BEGIN:STANDARD
TZOFFSETFROM:+0100
TZOFFSETTO:+0000
TZNAME:GMT
DTSTART:20251026T010000
END:STANDARD
BEGIN:DAYLIGHT
TZOFFSETFROM:+0000
TZOFFSETTO:+0100
TZNAME:BST
DTSTART:20260329T010000
END:DAYLIGHT
BEGIN:STANDARD
TZOFFSETFROM:+0100
TZOFFSETTO:+0000
TZNAME:GMT
DTSTART:20261025T010000
END:STANDARD
BEGIN:DAYLIGHT
TZOFFSETFROM:+0000
TZOFFSETTO:+0100
TZNAME:BST
DTSTART:20270328T010000
END:DAYLIGHT
BEGIN:STANDARD
TZOFFSETFROM:+0100
TZOFFSETTO:+0000
TZNAME:GMT
DTSTART:20271031T010000
END:STANDARD
END:VTIMEZONE
BEGIN:VTIMEZONE
TZID:UTC
BEGIN:STANDARD
TZOFFSETFROM:+0000
TZOFFSETTO:+0000
TZNAME:UTC
DTSTART:20240101T000000
END:STANDARD
END:VTIMEZONE
BEGIN:VEVENT
DTSTART;TZID=Europe/London:20260205T150000
DTEND;TZID=Europe/London:20260205T170000
DTSTAMP:20260422T232039
CREATED:20260114T100726Z
LAST-MODIFIED:20260114T100726Z
UID:1061-1770303600-1770310800@expohealthnet.eu
SUMMARY:1st EXPOSIM symposium “Cumulative Exposures\, Collective Impact: Advancing Public Health Through Exposome Research”
DESCRIPTION:EXPOSIM will host its first EXPOSIM symposium on 5 February 2026 (15:00–17:00 CET)\, bringing together leading experts to explore how exposome research can inform public health\, environmental and equity-focused decision-making. \nTitled “Cumulative Exposures\, Collective Impact: Advancing Public Health Through Exposome Research”\, the symposium will highlight EU-funded research perspectives and policy-relevant insights at the interface of environment\, health and equity. \nRegistration is now open – follow the link below to register and join the symposium. \nhttps://events.teams.microsoft.com/event/f4eb42b6-b902-4aca-82c0-e727917cc07a@a9010bf5-5339-4409-a121-9d389058de65 \nFeatured speakers \n\nGarry Miller (Columbia University\, New York\, USA)\nExposomics: from wild concept to scientific reality\nGerardo Sanchez (European Environment Agency)\nThe kind of exposome research we could use at EEA\nAlex Mulet Indrayanti (European Commission\, DG Research and Innovation)\nEU-funded research and innovation on the human exposome: looking within and beyond\n\nThe event will include expert presentations followed by discussion. The session will be recorded and made available for sharing. \nRegister today and stay tuned for updates.
URL:https://expohealthnet.eu/event/1st-exposim-symposium-cumulative-exposures-collective-impact-advancing-public-health-through-exposome-research/
LOCATION:online
ATTACH;FMTTYPE=image/png:https://expohealthnet.eu/wp-content/uploads/sites/102/2026/01/SYMPOSIUM-5.png
END:VEVENT
BEGIN:VEVENT
DTSTART;VALUE=DATE:20250925
DTEND;VALUE=DATE:20250926
DTSTAMP:20260422T232039
CREATED:20250715T135152Z
LAST-MODIFIED:20250728T172328Z
UID:127-1758758400-1758844799@expohealthnet.eu
SUMMARY:Pollution\, Health & The Power of Synergy: ExpoHealthNet Cluster Kick-off Event
DESCRIPTION:We are excited to announce that EXPOSIM will join the upcoming ExpoHealthNet cluster kick-off event\, taking place on 25 September 2025 in Barcelona\, Spain. \nThis event\, organised by the ClimAir project\, brings together all seven Horizon Europe projects in the ExpoHealthNet cluster: \n\nCLIMAIR\,\nEXPOSIM\,\nUPRISE\,\nMARKOPOLO\,\nENACT\,\nENVESOME\,\nEXPOSIGNALZ\n\nTogether\, these projects are pioneering research into how environmental stressors\, including air pollution\, chemicals\, and climate-related factors\, influence the development of non-communicable diseases. Through collaboration\, the cluster aims to foster synergies\, accelerate innovation and inform both policy and science on the critical links between environment and health. \nWhat to Expect: \nThe event will feature plenary talks and project highlight sessions\, offering a unique opportunity to gain insight into the latest progress of each cluster project and identify collaboration opportunities across projects. \nFor the full agenda and to register\, please visit the CLIMAIR website.
URL:https://expohealthnet.eu/event/5-home-projects-to-prepare-your-home-this-fall/
LOCATION:Barcelona\, Spain
ATTACH;FMTTYPE=image/png:https://expohealthnet.eu/wp-content/uploads/sites/102/2025/07/Slide-4_3-1.png
END:VEVENT
BEGIN:VEVENT
DTSTART;VALUE=DATE:20250922
DTEND;VALUE=DATE:20250924
DTSTAMP:20260422T232040
CREATED:20250718T075410Z
LAST-MODIFIED:20250728T172358Z
UID:368-1758499200-1758671999@expohealthnet.eu
SUMMARY:AIOTI Days 2025 in Madrid
DESCRIPTION:AIOTI Days 2025 brings together technology\, policy\, and research for two days of dialogue and innovation. This year’s theme\, “Cities 5.0: Harnessing AI\, Continuum and Virtual Twins for the Future of Urban Living\,” explores how emerging technologies can help shape smarter\, greener\, and more inclusive cities.
URL:https://expohealthnet.eu/event/aioti-days-2025-in-madrid/
LOCATION:Colegio de Aparejadores\, Madrid\, Spain
END:VEVENT
END:VCALENDAR