BEGIN:VCALENDAR
VERSION:2.0
PRODID:-//ExpoHealthNet - ECPv6.15.17//NONSGML v1.0//EN
CALSCALE:GREGORIAN
METHOD:PUBLISH
X-ORIGINAL-URL:https://expohealthnet.eu
X-WR-CALDESC:Events for ExpoHealthNet
REFRESH-INTERVAL;VALUE=DURATION:PT1H
X-Robots-Tag:noindex
X-PUBLISHED-TTL:PT1H
BEGIN:VTIMEZONE
TZID:Europe/London
BEGIN:DAYLIGHT
TZOFFSETFROM:+0000
TZOFFSETTO:+0100
TZNAME:BST
DTSTART:20250330T010000
END:DAYLIGHT
BEGIN:STANDARD
TZOFFSETFROM:+0100
TZOFFSETTO:+0000
TZNAME:GMT
DTSTART:20251026T010000
END:STANDARD
BEGIN:DAYLIGHT
TZOFFSETFROM:+0000
TZOFFSETTO:+0100
TZNAME:BST
DTSTART:20260329T010000
END:DAYLIGHT
BEGIN:STANDARD
TZOFFSETFROM:+0100
TZOFFSETTO:+0000
TZNAME:GMT
DTSTART:20261025T010000
END:STANDARD
BEGIN:DAYLIGHT
TZOFFSETFROM:+0000
TZOFFSETTO:+0100
TZNAME:BST
DTSTART:20270328T010000
END:DAYLIGHT
BEGIN:STANDARD
TZOFFSETFROM:+0100
TZOFFSETTO:+0000
TZNAME:GMT
DTSTART:20271031T010000
END:STANDARD
END:VTIMEZONE
BEGIN:VEVENT
DTSTART;VALUE=DATE:20260603
DTEND;VALUE=DATE:20260606
DTSTAMP:20260422T232152
CREATED:20250718T075143Z
LAST-MODIFIED:20250729T084929Z
UID:362-1780444800-1780703999@expohealthnet.eu
SUMMARY:SFRR Annual Meeing in Mainz\, Germany
DESCRIPTION:The 2026 Society for Free Radical Research Europe (SFRR-E) conference hosted by SFRR-E will be held from June 3-5\, 2026 in Mainz\, Germany\, at the Johannes Gutenberg University campus. The 2026 SFRR-E conference will bring together scientists from different disciplines and regions from Europe and abroad to enjoy and discuss topics of redox biology in the context of environmental exposures and lifestyle risk factors. \nFind out more
URL:https://expohealthnet.eu/event/sfrr-annual-meeing-in-mainz-germany/
LOCATION:Mainz\, Germany\, Germany
ATTACH;FMTTYPE=image/png:https://expohealthnet.eu/wp-content/uploads/sites/102/2025/07/SFRR-E-2026.png
END:VEVENT
END:VCALENDAR